BEGIN:VCALENDAR
VERSION:2.0
PRODID:-//Sun Valley Music Festival - ECPv6.15.20//NONSGML v1.0//EN
CALSCALE:GREGORIAN
METHOD:PUBLISH
X-ORIGINAL-URL:https://www.svmusicfestival.org
X-WR-CALDESC:Events for Sun Valley Music Festival
REFRESH-INTERVAL;VALUE=DURATION:PT1H
X-Robots-Tag:noindex
X-PUBLISHED-TTL:PT1H
BEGIN:VTIMEZONE
TZID:America/Denver
BEGIN:DAYLIGHT
TZOFFSETFROM:-0700
TZOFFSETTO:-0600
TZNAME:MDT
DTSTART:20230312T090000
END:DAYLIGHT
BEGIN:STANDARD
TZOFFSETFROM:-0600
TZOFFSETTO:-0700
TZNAME:MST
DTSTART:20231105T080000
END:STANDARD
BEGIN:DAYLIGHT
TZOFFSETFROM:-0700
TZOFFSETTO:-0600
TZNAME:MDT
DTSTART:20240310T090000
END:DAYLIGHT
BEGIN:STANDARD
TZOFFSETFROM:-0600
TZOFFSETTO:-0700
TZNAME:MST
DTSTART:20241103T080000
END:STANDARD
BEGIN:DAYLIGHT
TZOFFSETFROM:-0700
TZOFFSETTO:-0600
TZNAME:MDT
DTSTART:20250309T090000
END:DAYLIGHT
BEGIN:STANDARD
TZOFFSETFROM:-0600
TZOFFSETTO:-0700
TZNAME:MST
DTSTART:20251102T080000
END:STANDARD
END:VTIMEZONE
BEGIN:VEVENT
DTSTART;TZID=America/Denver:20240729T183000
DTEND;TZID=America/Denver:20240729T193000
DTSTAMP:20260421T065218
CREATED:20240117T134507Z
LAST-MODIFIED:20240709T211926Z
UID:10000259-1722277800-1722281400@www.svmusicfestival.org
SUMMARY:Opening Night with Meechot Marrero
DESCRIPTION:Pre-Concert Chat at 5:45 PM\nLawn Paver Bar \n\nJohn Stafford Smith\nThe Star-Spangled Banner \n  \nTimothy Higgins\nFanfare\nCommissioned by the Sun Valley Music Festival\nWorld Premiere \n  \nVarious\nMs. Marrero will perform a selection of favorite songs and arias \n  \nSergei Prokofiev\nSymphony No. 1 in D Major\, Op. 25\, “Classical Symphony” \n 
URL:https://www.svmusicfestival.org/event/opening-night-with-meechot-marrero/
LOCATION:Sun Valley Pavilion\, 300 Dollar Rd\, Sun Valley\, Idaho\, 83353\, United States
CATEGORIES:Summer concert
ATTACH;FMTTYPE=image/jpeg:https://www.svmusicfestival.org/wp-content/uploads/2024/01/Jul-29_Meechot-Marrero.jpg
GEO:43.693836;-114.352507
X-APPLE-STRUCTURED-LOCATION;VALUE=URI;X-ADDRESS=Sun Valley Pavilion 300 Dollar Rd Sun Valley Idaho 83353 United States;X-APPLE-RADIUS=500;X-TITLE=300 Dollar Rd:geo:-114.352507,43.693836
END:VEVENT
BEGIN:VEVENT
DTSTART;TZID=America/Denver:20240730T183000
DTEND;TZID=America/Denver:20240730T193000
DTSTAMP:20260421T065218
CREATED:20240117T134541Z
LAST-MODIFIED:20240514T202638Z
UID:10000260-1722364200-1722367800@www.svmusicfestival.org
SUMMARY:Piazzolla's Four Seasons and Mozart's "Linz" Symphony
DESCRIPTION:Pre-Concert Chat at 5:45 PM\nLawn Paver Bar \n\nAstor Piazzolla\nLas Cuatro Estaciones Porteñas (The Four Seasons of Buenos Aires)  \n  \nWolfgang Amadeus Mozart\nSymphony No. 36 in C Major\, K. 425\, “Linz” \n 
URL:https://www.svmusicfestival.org/event/piazzolas-four-seasons-with-mozarts-linz-symphony/
LOCATION:Sun Valley Pavilion\, 300 Dollar Rd\, Sun Valley\, Idaho\, 83353\, United States
CATEGORIES:Summer concert
ATTACH;FMTTYPE=image/jpeg:https://www.svmusicfestival.org/wp-content/uploads/2024/01/Jull-30_Mozart.jpg
GEO:43.693836;-114.352507
X-APPLE-STRUCTURED-LOCATION;VALUE=URI;X-ADDRESS=Sun Valley Pavilion 300 Dollar Rd Sun Valley Idaho 83353 United States;X-APPLE-RADIUS=500;X-TITLE=300 Dollar Rd:geo:-114.352507,43.693836
END:VEVENT
END:VCALENDAR