BEGIN:VCALENDAR
VERSION:2.0
PRODID:-//Sun Valley Music Festival - ECPv6.15.20//NONSGML v1.0//EN
CALSCALE:GREGORIAN
METHOD:PUBLISH
X-WR-CALNAME:Sun Valley Music Festival
X-ORIGINAL-URL:https://www.svmusicfestival.org
X-WR-CALDESC:Events for Sun Valley Music Festival
REFRESH-INTERVAL;VALUE=DURATION:PT1H
X-Robots-Tag:noindex
X-PUBLISHED-TTL:PT1H
BEGIN:VTIMEZONE
TZID:America/Denver
BEGIN:DAYLIGHT
TZOFFSETFROM:-0700
TZOFFSETTO:-0600
TZNAME:MDT
DTSTART:20220313T090000
END:DAYLIGHT
BEGIN:STANDARD
TZOFFSETFROM:-0600
TZOFFSETTO:-0700
TZNAME:MST
DTSTART:20221106T080000
END:STANDARD
BEGIN:DAYLIGHT
TZOFFSETFROM:-0700
TZOFFSETTO:-0600
TZNAME:MDT
DTSTART:20230312T090000
END:DAYLIGHT
BEGIN:STANDARD
TZOFFSETFROM:-0600
TZOFFSETTO:-0700
TZNAME:MST
DTSTART:20231105T080000
END:STANDARD
BEGIN:DAYLIGHT
TZOFFSETFROM:-0700
TZOFFSETTO:-0600
TZNAME:MDT
DTSTART:20240310T090000
END:DAYLIGHT
BEGIN:STANDARD
TZOFFSETFROM:-0600
TZOFFSETTO:-0700
TZNAME:MST
DTSTART:20241103T080000
END:STANDARD
END:VTIMEZONE
BEGIN:VEVENT
DTSTART;TZID=America/Denver:20230814T183000
DTEND;TZID=America/Denver:20230814T193000
DTSTAMP:20260424T042609
CREATED:20230118T140047Z
LAST-MODIFIED:20230725T165256Z
UID:10000226-1692037800-1692041400@www.svmusicfestival.org
SUMMARY:Yefim Bronfman\, An Homage to Sibelius\, and Post-Concert Lawn Party
DESCRIPTION:Pre-Concert Chat at 5:45 PM\nLed by Peter Henderson\nLawn Paver Bar \n\nSibelius\nFinlandia\, Op. 26 \n  \nWilliam Grant Still\nThrenody (In Memory of Jean Sibelius) \n  \nSchumann\nConcerto in A Minor for Piano and Orchestra\, Op. 54 \n  \n\n  \nPost-concert: Lawn Party featuring DJ Masonic (aka the composer\, Mason Bates)
URL:https://www.svmusicfestival.org/event/an-homage-to-sibelius/
LOCATION:Sun Valley Pavilion\, 300 Dollar Rd\, Sun Valley\, Idaho\, 83353\, United States
CATEGORIES:Summer concert
ATTACH;FMTTYPE=image/jpeg:https://www.svmusicfestival.org/wp-content/uploads/2023/01/Summer-Season-Concert-Images9.jpg
GEO:43.693836;-114.352507
X-APPLE-STRUCTURED-LOCATION;VALUE=URI;X-ADDRESS=Sun Valley Pavilion 300 Dollar Rd Sun Valley Idaho 83353 United States;X-APPLE-RADIUS=500;X-TITLE=300 Dollar Rd:geo:-114.352507,43.693836
END:VEVENT
BEGIN:VEVENT
DTSTART;TZID=America/Denver:20230817T183000
DTEND;TZID=America/Denver:20230817T193000
DTSTAMP:20260424T042609
CREATED:20230118T140021Z
LAST-MODIFIED:20230725T165434Z
UID:10000225-1692297000-1692300600@www.svmusicfestival.org
SUMMARY:Stravinsky's The Rite Of Spring
DESCRIPTION:Pre-Concert Chat at 5:45 PM\nLed by Peter Henderson\nLawn Paver Bar \n\nTchaikovsky\nExcerpts from Sleeping Beauty \n  \nStravinsky\nThe Rite of Spring
URL:https://www.svmusicfestival.org/event/rite-of-spring/
LOCATION:Sun Valley Pavilion\, 300 Dollar Rd\, Sun Valley\, Idaho\, 83353\, United States
CATEGORIES:Summer concert
ATTACH;FMTTYPE=image/jpeg:https://www.svmusicfestival.org/wp-content/uploads/2023/01/Summer-Season-Concert-Images10.jpg
GEO:43.693836;-114.352507
X-APPLE-STRUCTURED-LOCATION;VALUE=URI;X-ADDRESS=Sun Valley Pavilion 300 Dollar Rd Sun Valley Idaho 83353 United States;X-APPLE-RADIUS=500;X-TITLE=300 Dollar Rd:geo:-114.352507,43.693836
END:VEVENT
BEGIN:VEVENT
DTSTART;TZID=America/Denver:20230819T183000
DTEND;TZID=America/Denver:20230819T193000
DTSTAMP:20260424T042609
CREATED:20230118T140056Z
LAST-MODIFIED:20230725T165551Z
UID:10000224-1692469800-1692473400@www.svmusicfestival.org
SUMMARY:Debussy's La Mer
DESCRIPTION:Pre-Concert Chat at 5:45 PM\nLed by Stephanie Childress\nLawn Paver Bar \n\nMichael Tilson Thomas\nAgnegram \n  \nMozart\nConcerto in B-flat Major for Bassoon\, K. 186e \n  \nDebussy\nLa Mer
URL:https://www.svmusicfestival.org/event/debussys-la-mer/
LOCATION:Sun Valley Pavilion\, 300 Dollar Rd\, Sun Valley\, Idaho\, 83353\, United States
CATEGORIES:Summer concert
ATTACH;FMTTYPE=image/jpeg:https://www.svmusicfestival.org/wp-content/uploads/2023/01/Summer-Season-Concert-Images11.jpg
GEO:43.693836;-114.352507
X-APPLE-STRUCTURED-LOCATION;VALUE=URI;X-ADDRESS=Sun Valley Pavilion 300 Dollar Rd Sun Valley Idaho 83353 United States;X-APPLE-RADIUS=500;X-TITLE=300 Dollar Rd:geo:-114.352507,43.693836
END:VEVENT
BEGIN:VEVENT
DTSTART;TZID=America/Denver:20230821T183000
DTEND;TZID=America/Denver:20230821T193000
DTSTAMP:20260424T042609
CREATED:20230118T140043Z
LAST-MODIFIED:20230725T170236Z
UID:10000222-1692642600-1692646200@www.svmusicfestival.org
SUMMARY:Augustin Hadelich with Festival Musicians
DESCRIPTION:Pre-Concert Chat at 5:45 PM\nLed by Stephanie Childress\nLawn Paver Bar \n\nBrahms\nRhapsody in G Minor for Piano\, Op. 79\, No. 2 \n  \nBrahms\nIntermezzo in E-flat Major for Piano\, Op. 117\, No. 1 \n  \nBrahms\nSextet No. 1 in B-flat Major for Strings\, Op. 18
URL:https://www.svmusicfestival.org/event/hadelich-with-festival-musicians/
LOCATION:Sun Valley Pavilion\, 300 Dollar Rd\, Sun Valley\, Idaho\, 83353\, United States
CATEGORIES:Summer concert
ATTACH;FMTTYPE=image/jpeg:https://www.svmusicfestival.org/wp-content/uploads/2023/01/Summer-Season-Concert-Images13-1.jpg
GEO:43.693836;-114.352507
X-APPLE-STRUCTURED-LOCATION;VALUE=URI;X-ADDRESS=Sun Valley Pavilion 300 Dollar Rd Sun Valley Idaho 83353 United States;X-APPLE-RADIUS=500;X-TITLE=300 Dollar Rd:geo:-114.352507,43.693836
END:VEVENT
BEGIN:VEVENT
DTSTART;TZID=America/Denver:20230824T183000
DTEND;TZID=America/Denver:20230824T193000
DTSTAMP:20260424T042609
CREATED:20230118T140025Z
LAST-MODIFIED:20230725T170346Z
UID:10000221-1692901800-1692905400@www.svmusicfestival.org
SUMMARY:Season Finale: Mahler 5
DESCRIPTION:Pre-Concert Chat at 5:45 PM\nLed by Stephanie Childress\nLawn Paver Bar \n\nMahler\nSymphony No. 5 in C-sharp Minor \n 
URL:https://www.svmusicfestival.org/event/mahler-5/
LOCATION:Sun Valley Pavilion\, 300 Dollar Rd\, Sun Valley\, Idaho\, 83353\, United States
CATEGORIES:Summer concert
ATTACH;FMTTYPE=image/jpeg:https://www.svmusicfestival.org/wp-content/uploads/2023/01/Summer-Season-Concert-Images14-1.jpg
GEO:43.693836;-114.352507
X-APPLE-STRUCTURED-LOCATION;VALUE=URI;X-ADDRESS=Sun Valley Pavilion 300 Dollar Rd Sun Valley Idaho 83353 United States;X-APPLE-RADIUS=500;X-TITLE=300 Dollar Rd:geo:-114.352507,43.693836
END:VEVENT
END:VCALENDAR