BEGIN:VCALENDAR
VERSION:2.0
PRODID:-//Sun Valley Music Festival - ECPv6.15.20//NONSGML v1.0//EN
CALSCALE:GREGORIAN
METHOD:PUBLISH
X-ORIGINAL-URL:https://www.svmusicfestival.org
X-WR-CALDESC:Events for Sun Valley Music Festival
REFRESH-INTERVAL;VALUE=DURATION:PT1H
X-Robots-Tag:noindex
X-PUBLISHED-TTL:PT1H
BEGIN:VTIMEZONE
TZID:America/Denver
BEGIN:DAYLIGHT
TZOFFSETFROM:-0700
TZOFFSETTO:-0600
TZNAME:MDT
DTSTART:20190310T090000
END:DAYLIGHT
BEGIN:STANDARD
TZOFFSETFROM:-0600
TZOFFSETTO:-0700
TZNAME:MST
DTSTART:20191103T080000
END:STANDARD
BEGIN:DAYLIGHT
TZOFFSETFROM:-0700
TZOFFSETTO:-0600
TZNAME:MDT
DTSTART:20200308T090000
END:DAYLIGHT
BEGIN:STANDARD
TZOFFSETFROM:-0600
TZOFFSETTO:-0700
TZNAME:MST
DTSTART:20201101T080000
END:STANDARD
BEGIN:DAYLIGHT
TZOFFSETFROM:-0700
TZOFFSETTO:-0600
TZNAME:MDT
DTSTART:20210314T090000
END:DAYLIGHT
BEGIN:STANDARD
TZOFFSETFROM:-0600
TZOFFSETTO:-0700
TZNAME:MST
DTSTART:20211107T080000
END:STANDARD
END:VTIMEZONE
BEGIN:VEVENT
DTSTART;TZID=America/Denver:20200803T183000
DTEND;TZID=America/Denver:20200803T193000
DTSTAMP:20260421T105514
CREATED:20200226T203810Z
LAST-MODIFIED:20200908T212044Z
UID:10000162-1596479400-1596483000@www.svmusicfestival.org
SUMMARY:Gala Concert: Broadway’s Brightest Stars…
DESCRIPTION:Note: this concert broadcast is no longer available to watch\, but information such as repertoire and program notes are still available below. All 2020 Summer Season concert broadcasts were available for viewing live during the scheduled concert date and time only (not on demand).\n\n\nAward-winning artists Audra McDonald\, Kelli O’Hara\, and Brian Stokes Mitchell—joined by pianist Andy Einhorn—present a special\, once-in-a-lifetime performance for the 2020 Gala. In a typical year\, tickets sold for the annual fundraising concert help keep the rest of the year’s performances free. But this summer’s Gala will be different. Now\, these musical superstars will craft a unique program\, for you\, broadcast live from the East Coast. It will be presented admission-free for all as a thank-you from the Music Festival to the community.
URL:https://www.svmusicfestival.org/event/2020-gala-concert/
LOCATION:Online broadcast at svmusicfestival.org
CATEGORIES:Live broadcast,Special events,Summer concert
ATTACH;FMTTYPE=image/jpeg:https://www.svmusicfestival.org/wp-content/uploads/2020/02/2020-Gala-Imagery_thumbnails2.jpg
END:VEVENT
BEGIN:VEVENT
DTSTART;TZID=America/Denver:20200731T183000
DTEND;TZID=America/Denver:20200731T193000
DTSTAMP:20260421T105514
CREATED:20200122T064013Z
LAST-MODIFIED:20200908T212110Z
UID:10000160-1596220200-1596223800@www.svmusicfestival.org
SUMMARY:Beethoven’s Archduke
DESCRIPTION:Note: this concert broadcast is no longer available to watch\, but information such as repertoire and program notes are still available below. All 2020 Summer Season concert broadcasts were available for viewing live during the scheduled concert date and time only (not on demand).\n\nBeethoven\nTrio in B-flat Major for Violin\, Cello\, and Piano\, Op. 97\, “Archduke” \nAllegro moderato\nScherzo: Allegro\nAndante cantabile ma però con moto\nAllegro moderato–Presto \nKristin Ahlstrom\, Violin\nBjorn Ranheim\, Cello\nPeter Henderson\, Piano
URL:https://www.svmusicfestival.org/event/archduke/
LOCATION:Online broadcast at svmusicfestival.org
CATEGORIES:Live broadcast,Summer concert
ATTACH;FMTTYPE=image/jpeg:https://www.svmusicfestival.org/wp-content/uploads/2020/01/2020-Online-Season-Concert-images-300x3004-1.jpg
END:VEVENT
BEGIN:VEVENT
DTSTART;TZID=America/Denver:20200730T183000
DTEND;TZID=America/Denver:20200730T193000
DTSTAMP:20260421T105514
CREATED:20200122T063923Z
LAST-MODIFIED:20200908T212143Z
UID:10000159-1596133800-1596137400@www.svmusicfestival.org
SUMMARY:From Bach to Bernstein and Beyond
DESCRIPTION:Note: this concert broadcast is no longer available to watch\, but information such as repertoire and program notes are still available below. All 2020 Summer Season concert broadcasts were available for viewing live during the scheduled concert date and time only (not on demand).\n\nSusato\nFour Renaissance Dances from The Danserye \nAndrew McCandless\, Trumpet\nKaren Donnelly\, Trumpet\nNicholas Hartman\, Horn\nGordon Wolfe\, Trombone\nChris Lee\, Tuba\nCharles Settle\, Percussion \nCopyright: Chester Music (1977\, 1991) for all Countries\nCourtesy of: Wise Music Group \n  \nBach\nSuite No. 6 in D Major for Cello\, BWV 1012 \nPrelude\nSarabande\nGigue \nAmos Yang\, Cello \n  \nSalonen\nFrom Lachen Verlernt [Laughing Unlearnt] for Violin \nLeila Josefowicz\, violin \nCopyright: Chester Music Limited (2002\nCourtesy of: Wise Music Group \n  \nBernstein/Gale\nSuite from West Side Story for Brass Quintet \nAndrew McCandless\, Trumpet\nKaren Donnelly\, Trumpet\nNicholas Hartman\, Horn\nGordon Wolfe\, Trombone\nChris Lee\, Tuba\nCharles Settle\, Percussion \nCopyright: Leonard Bernstein Music Publishing Co. (2018)\nCourtesy of: Universal Music Publishing Group
URL:https://www.svmusicfestival.org/event/bach-to-bernstein/
LOCATION:Online broadcast at svmusicfestival.org
CATEGORIES:Live broadcast,Summer concert
ATTACH;FMTTYPE=image/jpeg:https://www.svmusicfestival.org/wp-content/uploads/2020/01/2020-Online-Season-Concert-images-300x3003-1.jpg
END:VEVENT
BEGIN:VEVENT
DTSTART;TZID=America/Denver:20200728T183000
DTEND;TZID=America/Denver:20200728T193000
DTSTAMP:20260421T105514
CREATED:20200122T063802Z
LAST-MODIFIED:20200908T212446Z
UID:10000158-1595961000-1595964600@www.svmusicfestival.org
SUMMARY:French Elegance\, German Passion
DESCRIPTION:Note: this concert broadcast is no longer available to watch\, but information such as repertoire and program notes are still available below. All 2020 Summer Season concert broadcasts were available for viewing live during the scheduled concert date and time only (not on demand).\n\nLeclair\nSonata in E Minor for Two Violins\, Op. 3\, No. 5 \nAllegro ma poco\nGavotta gracioso–Andante\nPresto \nMilana Reiche\, Violin\nRebecca Corruccini\, Violin \n  \nBeethoven\nSonata No. 23 in F Minor\, Op. 57\, “Appassionata” \nAllegro assai\nAndante con moto\nAllegro ma non troppo–Presto \nOrion Weiss\, Piano
URL:https://www.svmusicfestival.org/event/french-elegance/
LOCATION:Online broadcast at svmusicfestival.org
CATEGORIES:Live broadcast,Summer concert
ATTACH;FMTTYPE=image/jpeg:https://www.svmusicfestival.org/wp-content/uploads/2020/01/2020-Online-Season-Concert-images-300x3002-1.jpg
END:VEVENT
BEGIN:VEVENT
DTSTART;TZID=America/Denver:20200727T183000
DTEND;TZID=America/Denver:20200727T193000
DTSTAMP:20260421T105514
CREATED:20200118T002635Z
LAST-MODIFIED:20201008T134240Z
UID:10000148-1595874600-1595878200@www.svmusicfestival.org
SUMMARY:Opening Concert
DESCRIPTION:Note: this concert broadcast is no longer available to watch\, but information such as repertoire and program notes are still available below. All 2020 Summer Season concert broadcasts were available for viewing live during the scheduled concert date and time only (not on demand).\n\nSmith\n“The Star-Spangled Banner” \n  \nBizet/Turner\nSuite from Carmen for Horn Quartet \nWilliam VerMeulen\, Horn\nBrian Thomas\, Horn\nJesse Clevenger\, Horn\nIan Mayton\, Horn \n  \nMassenet/Marsick\narr. Marsick \nMéditation from Thaïs for Violin and Piano \nJuliana Athayde\, Violin\nOrion Weiss\, Piano \n  \nBeethoven\nAllegro (Finale) from Symphony No. 5 in C Minor\, Op. 67
URL:https://www.svmusicfestival.org/event/opening-concert/
LOCATION:Online broadcast at svmusicfestival.org
CATEGORIES:Live broadcast,Summer concert
ATTACH;FMTTYPE=image/jpeg:https://www.svmusicfestival.org/wp-content/uploads/2020/01/2020-Online-Season-Concert-images-300x300-1.jpg
END:VEVENT
BEGIN:VEVENT
DTSTART;TZID=America/Denver:20200726T160000
DTEND;TZID=America/Denver:20200726T170000
DTSTAMP:20260421T105514
CREATED:20200720T172405Z
LAST-MODIFIED:20200726T211523Z
UID:10000165-1595779200-1595782800@www.svmusicfestival.org
SUMMARY:Beethoven: Anguish and Triumph with speaker Jan Swafford
DESCRIPTION:In celebration of Beethoven’s 250th birthday\, and in partnership with the Sun Valley Music Festival\, The Community Library presents a virtual evening with Jan Swafford\, celebrated composer and author of the acclaimed biography\, Beethoven: Anguish and Triumph. \nLearn more about this summer’s concerts\, including several featuring Beethoven’s finest works to continue the celebration\, in the sneak peek video below. Find out more about concert dates and repertoire by clicking here. \nConcert broadcasts can be viewed online on the Festival website or from the Pavilion Lawn\, by reservation. Click here to learn more about Lawn reservations.
URL:https://www.svmusicfestival.org/event/beethoven-anguish-and-triumph-with-speaker-jan-swafford/
LOCATION:Online broadcast at svmusicfestival.org
CATEGORIES:Summer concert
ATTACH;FMTTYPE=image/jpeg:https://www.svmusicfestival.org/wp-content/uploads/2020/07/Beethoven-Lecture.jpg
END:VEVENT
END:VCALENDAR