BEGIN:VCALENDAR
VERSION:2.0
PRODID:-//Sun Valley Music Festival - ECPv6.15.20//NONSGML v1.0//EN
CALSCALE:GREGORIAN
METHOD:PUBLISH
X-WR-CALNAME:Sun Valley Music Festival
X-ORIGINAL-URL:https://www.svmusicfestival.org
X-WR-CALDESC:Events for Sun Valley Music Festival
REFRESH-INTERVAL;VALUE=DURATION:PT1H
X-Robots-Tag:noindex
X-PUBLISHED-TTL:PT1H
BEGIN:VTIMEZONE
TZID:America/Denver
BEGIN:DAYLIGHT
TZOFFSETFROM:-0700
TZOFFSETTO:-0600
TZNAME:MDT
DTSTART:20240310T090000
END:DAYLIGHT
BEGIN:STANDARD
TZOFFSETFROM:-0600
TZOFFSETTO:-0700
TZNAME:MST
DTSTART:20241103T080000
END:STANDARD
BEGIN:DAYLIGHT
TZOFFSETFROM:-0700
TZOFFSETTO:-0600
TZNAME:MDT
DTSTART:20250309T090000
END:DAYLIGHT
BEGIN:STANDARD
TZOFFSETFROM:-0600
TZOFFSETTO:-0700
TZNAME:MST
DTSTART:20251102T080000
END:STANDARD
BEGIN:DAYLIGHT
TZOFFSETFROM:-0700
TZOFFSETTO:-0600
TZNAME:MDT
DTSTART:20260308T090000
END:DAYLIGHT
BEGIN:STANDARD
TZOFFSETFROM:-0600
TZOFFSETTO:-0700
TZNAME:MST
DTSTART:20261101T080000
END:STANDARD
END:VTIMEZONE
BEGIN:VEVENT
DTSTART;TZID=America/Denver:20250307T190000
DTEND;TZID=America/Denver:20250307T210000
DTSTAMP:20260423T231526
CREATED:20241211T134741Z
LAST-MODIFIED:20250304T205450Z
UID:10000287-1741374000-1741381200@www.svmusicfestival.org
SUMMARY:Joyce Yang in concert with Festival Musicians
DESCRIPTION:The Sun Valley Music Festival presents its seventh Winter Season at the Argyros Performing Arts Center\, from March 6 to 8. The 2025 Winter Season features guest curator and pianist Joyce Yang. A Sun Valley favorite\, Ms. Yang has performed several times with Music Director Alasdair Neale and the Festival Orchestra\, including the Festival’s Summer Seasons in 2013 (Tchaikovsky’s Piano Concerto No. 1)\, 2016 (Gershwin’s Piano Concerto in F Major)\, and 2021 (Rachmaninoff’s Piano Concerto No. 2). Ms. Yang rose to fame in 2005 as the youngest contestant and silver medalist at the 12th Van Cliburn International Piano Competition. An accomplished chamber musician\, she’ll join forces with Festival Orchestra musicians in a program featuring works by Poulenc\, Dohnányi\, and Schumann. Ms. Yang will also perform solo piano works by Rachmaninoff each evening.\n \nSERGEI RACHMANINOFF\nPreludes\nOp. 32\, No. 12 in G-sharp Minor: Allegro\nOp. 32\, No. 10 in B Minor: Lento\nOp. 23\, No. 4 in D Major: Andante cantabile\nOp 32\, No. 13 in D-flat Major: Grave\nJoyce Yang\, piano \nFRANCIS POULENC\nSextet for Flute\, Oboe\, Clarinet\, Horn\, Bassoon\, and Piano\nJoyce Yang\, piano\nAndrea Kaplan\, flute\nErik Behr\, oboe\nJason Shafer\, clarinet\nAndrew Cuneo\, bassoon\nCatherine Turner\, horn\n \nINTERMISSION \nERNST VON DOHNÁNYI\nSerenade in C Major for Violin\, Viola\, and Cello\, Op. 10\nShawn Weil\, violin\nAdam Smyla\, viola\nEmileigh Vandiver\, cello \nROBERT SCHUMANN\nQuartet in E-flat Major for Piano\, Violin\, Viola\, and Cello\, Op. 47\nJoyce Yang\, piano\nJeremy Constant\, violin\nMarylène Gingras-Roy\, viola\nAmos Yang\, cello\n \n\nPlease enjoy the Winter Season listening list compiled by Peter Henderson\, Festival Principal Keyboard. Read and Listen here\n\nAdmission is free\, but space is limited\, and reservations are required.\n\nPublic reservations begin Wednesday\, February 5 at 9:00 AM (Mountain Time).\nReserved seats are limited to two seats per household to any one performance in the series.\nFestival donors at the Patron ($6\,000) level and up may make concert reservations early\, beginning Wednesday\, Jan. 29 at 9:00 AM (Mountain Time)\, by calling the Festival office at 208.622.5607.\n\nAttending winter performances\n\nConcerts will take place at 7:00 PM from Thursday\, March 6 through Saturday\, March 8 at the Argyros Performing Arts Center in Ketchum.\nDoors open 30 minutes before each performance.\nPerformance duration will be about two hours and includes one intermission.\nBeer\, wine\, and non-alcoholic beverages will be available for purchase.\n\nClick here for complete attendance details\, including information about the performance venue and your concert experience. Parking details and helpful information about getting to the concerts can be found by clicking here.
URL:https://www.svmusicfestival.org/event/joyce-yang-in-concert-with-festival-musicians-2/
LOCATION:Argyros Performing Arts Center\, 120 Main St South\, Ketchum\, ID\, 83340\, United States
CATEGORIES:Winter concert
ATTACH;FMTTYPE=image/jpeg:https://www.svmusicfestival.org/wp-content/uploads/2025/01/Joyce-Yang-2_458X458.jpg
END:VEVENT
BEGIN:VEVENT
DTSTART;TZID=America/Denver:20250308T190000
DTEND;TZID=America/Denver:20250308T210000
DTSTAMP:20260423T231526
CREATED:20241211T134800Z
LAST-MODIFIED:20250304T205341Z
UID:10000288-1741460400-1741467600@www.svmusicfestival.org
SUMMARY:Joyce Yang in concert with Festival Musicians
DESCRIPTION:The Sun Valley Music Festival presents its seventh Winter Season at the Argyros Performing Arts Center\, from March 6 to 8. The 2025 Winter Season features guest curator and pianist Joyce Yang. A Sun Valley favorite\, Ms. Yang has performed several times with Music Director Alasdair Neale and the Festival Orchestra\, including the Festival’s Summer Seasons in 2013 (Tchaikovsky’s Piano Concerto No. 1)\, 2016 (Gershwin’s Piano Concerto in F Major)\, and 2021 (Rachmaninoff’s Piano Concerto No. 2). Ms. Yang rose to fame in 2005 as the youngest contestant and silver medalist at the 12th Van Cliburn International Piano Competition. An accomplished chamber musician\, she’ll join forces with Festival Orchestra musicians in a program featuring works by Poulenc\, Dohnányi\, and Schumann. Ms. Yang will also perform solo piano works by Rachmaninoff each evening.\n \nSERGEI RACHMANINOFF\nPreludes\nOp. 32\, No. 12 in G-sharp Minor: Allegro\nOp. 32\, No. 10 in B Minor: Lento\nOp. 23\, No. 4 in D Major: Andante cantabile\nOp 32\, No. 13 in D-flat Major: Grave\nJoyce Yang\, piano \nFRANCIS POULENC\nSextet for Flute\, Oboe\, Clarinet\, Horn\, Bassoon\, and Piano\nJoyce Yang\, piano\nAndrea Kaplan\, flute\nErik Behr\, oboe\nJason Shafer\, clarinet\nAndrew Cuneo\, bassoon\nCatherine Turner\, horn\n \nINTERMISSION \nERNST VON DOHNÁNYI\nSerenade in C Major for Violin\, Viola\, and Cello\, Op. 10\nShawn Weil\, violin\nAdam Smyla\, viola\nEmileigh Vandiver\, cello \nROBERT SCHUMANN\nQuartet in E-flat Major for Piano\, Violin\, Viola\, and Cello\, Op. 47\nJoyce Yang\, piano\nJeremy Constant\, violin\nMarylène Gingras-Roy\, viola\nAmos Yang\, cello\n \n\nPlease enjoy the Winter Season listening list compiled by Peter Henderson\, Festival Principal Keyboard. Read and Listen here\n\nAdmission is free\, but space is limited\, and reservations are required.\n\nPublic reservations begin Wednesday\, February 5 at 9:00 AM (Mountain Time).\nReserved seats are limited to two seats per household to any one performance in the series.\nFestival donors at the Patron ($6\,000) level and up may make concert reservations early\, beginning Wednesday\, Jan. 29 at 9:00 AM (Mountain Time)\, by calling the Festival office at 208.622.5607.\n\nAttending winter performances\n\nConcerts will take place at 7:00 PM from Thursday\, March 6 through Saturday\, March 8 at the Argyros Performing Arts Center in Ketchum.\nDoors open 30 minutes before each performance.\nPerformance duration will be about two hours and includes one intermission.\nBeer\, wine\, and non-alcoholic beverages will be available for purchase.\n\nClick here for complete attendance details\, including information about the performance venue and your concert experience. Parking details and helpful information about getting to the concerts can be found by clicking here.
URL:https://www.svmusicfestival.org/event/joyce-yang-in-concert-with-festival-musicians-3/
LOCATION:Argyros Performing Arts Center\, 120 Main St South\, Ketchum\, ID\, 83340\, United States
CATEGORIES:Winter concert
ATTACH;FMTTYPE=image/jpeg:https://www.svmusicfestival.org/wp-content/uploads/2025/01/Joyce-Yang-2_458X458.jpg
END:VEVENT
END:VCALENDAR